BEGIN:VCALENDAR
PRODID:-//github.com/rianjs/ical.net//NONSGML ical.net 4.0//EN
VERSION:2.0
BEGIN:VEVENT
CLASS:PUBLIC
CREATED:20260404T120636
DESCRIPTION:
DTEND:20260505T170000
DTSTAMP:20260404T110636Z
DTSTART:20260505T150000
LOCATION:Nene Court Shopping Village\, Embankment\,NN8 1LD
SEQUENCE:0
STATUS:
SUMMARY:Nene Court Shopping Village - Beat bus
UID:19C35DDC3EB5BEC47E4EE0B130A62B4D
END:VEVENT
END:VCALENDAR
