BEGIN:VCALENDAR
PRODID:-//github.com/rianjs/ical.net//NONSGML ical.net 4.0//EN
VERSION:2.0
BEGIN:VEVENT
CLASS:PUBLIC
CREATED:20260404T105942
DESCRIPTION:
DTEND:20260430T113000
DTSTAMP:20260404T095942Z
DTSTART:20260430T093000
LOCATION:Rhydycroesau Village Hall\, \,SY10 7PS
SEQUENCE:0
STATUS:
SUMMARY:Community meeting/Police surgery
UID:6B1CE8BC0E182BC227FBDBFE96BB6D55
END:VEVENT
END:VCALENDAR
