BEGIN:VCALENDAR
PRODID:-//github.com/rianjs/ical.net//NONSGML ical.net 4.0//EN
VERSION:2.0
BEGIN:VEVENT
CLASS:PUBLIC
CREATED:20260404T105835
DESCRIPTION:
DTEND:20260428T123000
DTSTAMP:20260404T095835Z
DTSTART:20260428T103000
LOCATION:The Parish Church of Saint Philip and Saint James Morton\, 2 Sunn
 yhurst Morton\,SY10 8AJ
SEQUENCE:0
STATUS:
SUMMARY:Community meeting/Police surgery
UID:871B4970E737DC07CF8928E4A2C761DE
END:VEVENT
END:VCALENDAR
