BEGIN:VCALENDAR
PRODID:-//github.com/rianjs/ical.net//NONSGML ical.net 4.0//EN
VERSION:2.0
BEGIN:VEVENT
CLASS:PUBLIC
CREATED:20260404T084702
DESCRIPTION:
DTEND:20260609T150000
DTSTAMP:20260404T074702Z
DTSTART:20260609T140000
LOCATION:ME5 7LA\, Nelson Terrace\,ME5 7LA
SEQUENCE:0
SUMMARY:Luton Library Drop In Surgery
UID:5DE266FDC998CC1137625B762ED4158D
END:VEVENT
END:VCALENDAR
