BEGIN:VCALENDAR
PRODID:-//github.com/rianjs/ical.net//NONSGML ical.net 4.0//EN
VERSION:2.0
BEGIN:VEVENT
CLASS:PUBLIC
CREATED:20260404T082635
DESCRIPTION:
DTEND:20260626T103000
DTSTAMP:20260404T072635Z
DTSTART:20260626T090000
LOCATION:Marks & Spencer\, 47 Hempstead Valley Drive\,ME7 3PD
SEQUENCE:0
STATUS:
SUMMARY:Police Surgery - Community Engagement
UID:71825507A24A6F49AB97E7112888D47D
END:VEVENT
END:VCALENDAR
