BEGIN:VCALENDAR
PRODID:-//github.com/rianjs/ical.net//NONSGML ical.net 4.0//EN
VERSION:2.0
BEGIN:VEVENT
CLASS:PUBLIC
CREATED:20260404T080713
DESCRIPTION:
DTEND:20260507T100000
DTSTAMP:20260404T070713Z
DTSTART:20260507T090000
LOCATION:ME5 7LA\, Nelson Terrace\,ME5 7LA
SEQUENCE:0
SUMMARY:Drop In Surgery
UID:85EC3C0C76D2913259A852C9AA3A06DC
END:VEVENT
END:VCALENDAR
