BEGIN:VCALENDAR
PRODID:-//github.com/rianjs/ical.net//NONSGML ical.net 4.0//EN
VERSION:2.0
BEGIN:VEVENT
CLASS:PUBLIC
CREATED:20260402T165252
DESCRIPTION:
DTEND:20260710T120000
DTSTAMP:20260402T155252Z
DTSTART:20260710T100000
LOCATION:Market Street\,NN8
SEQUENCE:0
STATUS:
SUMMARY:Market Street - Beat bus
UID:CC1CEEB8D504F844F118D08C27300B54
END:VEVENT
END:VCALENDAR
