BEGIN:VCALENDAR
PRODID:-//github.com/rianjs/ical.net//NONSGML ical.net 4.0//EN
VERSION:2.0
BEGIN:VEVENT
CLASS:PUBLIC
CREATED:20260402T164815
DESCRIPTION:
DTEND:20260602T120000
DTSTAMP:20260402T154815Z
DTSTART:20260602T100000
LOCATION:Market Street\,NN8
SEQUENCE:0
STATUS:
SUMMARY:Market Street - Beat bus
UID:258F3A57741A7276D7B9C99C2E70DC4A
END:VEVENT
END:VCALENDAR
