BEGIN:VCALENDAR
PRODID:-//github.com/rianjs/ical.net//NONSGML ical.net 4.0//EN
VERSION:2.0
BEGIN:VEVENT
CLASS:PUBLIC
CREATED:20260402T151841
DESCRIPTION:
DTEND:20260829T150000
DTSTAMP:20260402T141841Z
DTSTART:20260829T140000
LOCATION:Bulkington Community Library\, School Road\,CV12 9JB
SEQUENCE:0
STATUS:
SUMMARY:Walk with us
UID:2C8A3E107A9EFD0769AD48DB30E1C029
END:VEVENT
END:VCALENDAR
