BEGIN:VCALENDAR
PRODID:-//github.com/rianjs/ical.net//NONSGML ical.net 4.0//EN
VERSION:2.0
BEGIN:VEVENT
CLASS:PUBLIC
CREATED:20260402T151609
DESCRIPTION:
DTEND:20260718T150000
DTSTAMP:20260402T141609Z
DTSTART:20260718T140000
LOCATION:Miners Welfare Park - Bayton Lake\, 2 Bedworth Hill\,CV12 9HH
SEQUENCE:0
STATUS:
SUMMARY:Walk with us
UID:33D2C33CEE66C6AECC32BF68D3231478
END:VEVENT
END:VCALENDAR
