BEGIN:VCALENDAR
PRODID:-//github.com/rianjs/ical.net//NONSGML ical.net 4.0//EN
VERSION:2.0
BEGIN:VEVENT
CLASS:PUBLIC
CREATED:20260402T134746
DESCRIPTION:
DTEND:20260613T133000
DTSTAMP:20260402T124746Z
DTSTART:20260613T123000
LOCATION:Keresley Community Library\, Bennetts Road\,CV7 8HX
SEQUENCE:0
SUMMARY:Walk with us
UID:BF1CD04CEBF841871CAF41E107BE272A
END:VEVENT
END:VCALENDAR
