BEGIN:VCALENDAR
PRODID:-//github.com/rianjs/ical.net//NONSGML ical.net 4.0//EN
VERSION:2.0
BEGIN:VEVENT
CLASS:PUBLIC
CREATED:20260402T132108
DESCRIPTION:
DTEND:20260522T190000
DTSTAMP:20260402T122108Z
DTSTART:20260522T180000
LOCATION:Ludlow Assembly Rooms\, Castle Street\,SY8 1AZ
SEQUENCE:0
STATUS:
SUMMARY:Meet your Safer Neighbourhood Officer - Ludlow Assembly Rooms
UID:257136E7C7FB735CEA32D317F102660D
END:VEVENT
END:VCALENDAR
