BEGIN:VCALENDAR
PRODID:-//github.com/rianjs/ical.net//NONSGML ical.net 4.0//EN
VERSION:2.0
BEGIN:VEVENT
CLASS:PUBLIC
CREATED:20260402T090722
DESCRIPTION:
DTEND:20260625T120000
DTSTAMP:20260402T080722Z
DTSTART:20260625T100000
LOCATION:Waverley Drive\,NN8
SEQUENCE:0
STATUS:
SUMMARY:Stanton Cross Beat bus
UID:3ADCE87988349E1E5518CBD3CF42E1C5
END:VEVENT
END:VCALENDAR
