BEGIN:VCALENDAR
PRODID:-//github.com/rianjs/ical.net//NONSGML ical.net 4.0//EN
VERSION:2.0
BEGIN:VEVENT
CLASS:PUBLIC
CREATED:20260402T090242
DESCRIPTION:
DTEND:20260507T120000
DTSTAMP:20260402T080242Z
DTSTART:20260507T100000
LOCATION:Waverley Drive\,NN8
SEQUENCE:0
STATUS:
SUMMARY:Stanton Cross Beat Bus
UID:F7EFB3CCE2C012DB753F7AB76223E795
END:VEVENT
END:VCALENDAR
