BEGIN:VCALENDAR
PRODID:-//github.com/rianjs/ical.net//NONSGML ical.net 4.0//EN
VERSION:2.0
BEGIN:VEVENT
CLASS:PUBLIC
CREATED:20260418T114405
DESCRIPTION:
DTEND:20260421T203000
DTSTAMP:20260418T104405Z
DTSTART:20260421T183000
LOCATION:Putteridge High School for all students\, Putteridge Road\,LU2 8HJ
SEQUENCE:0
SUMMARY:East Lets Talk 2026
UID:CDBD667870993E2C7A97B6BC5865B430
END:VEVENT
END:VCALENDAR
