BEGIN:VCALENDAR
PRODID:-//github.com/rianjs/ical.net//NONSGML ical.net 4.0//EN
VERSION:2.0
BEGIN:VEVENT
CLASS:PUBLIC
CREATED:20260411T120023
DESCRIPTION:
DTEND:20260425T133000
DTSTAMP:20260411T110023Z
DTSTART:20260425T130000
LOCATION:Lord Hill's Column\, Column Roundabout\,SY2 5NY
SEQUENCE:0
SUMMARY:Engagement Van - Lord Hills Column
UID:A520EF276919FCA6586CB66A1DDE0177
END:VEVENT
END:VCALENDAR
