BEGIN:VCALENDAR
PRODID:-//github.com/rianjs/ical.net//NONSGML ical.net 4.0//EN
VERSION:2.0
BEGIN:VEVENT
CLASS:PUBLIC
CREATED:20260330T143552
DESCRIPTION:
DTEND:20260526T110000
DTSTAMP:20260330T133552Z
DTSTART:20260526T090000
LOCATION:Hartwell Club\, 10 Forest Road\,NN7 2HE
SEQUENCE:0
SUMMARY:Hartwell Coffee morning Police surgery
UID:161326B8242F0871C88B6F2C9FAFFDC1
END:VEVENT
END:VCALENDAR
