BEGIN:VCALENDAR
PRODID:-//github.com/rianjs/ical.net//NONSGML ical.net 4.0//EN
VERSION:2.0
BEGIN:VEVENT
CLASS:PUBLIC
CREATED:20260330T112356
DESCRIPTION:
DTEND:20260514T143000
DTSTAMP:20260330T102356Z
DTSTART:20260514T140000
LOCATION:Barrow St Cafe\, 17 Barrow Street\,TF13 6EN
SEQUENCE:0
STATUS:
SUMMARY:Catch Up with Cops
END:VEVENT
END:VCALENDAR
