BEGIN:VCALENDAR
PRODID:-//github.com/rianjs/ical.net//NONSGML ical.net 4.0//EN
VERSION:2.0
BEGIN:VEVENT
CLASS:PUBLIC
CREATED:20260326T113651
DESCRIPTION:
DTEND:20260427T180000
DTSTAMP:20260326T113651Z
DTSTART:20260427T173000
LOCATION:Mereside Community Centre\, Mereside\,SY2 6LH
SEQUENCE:0
STATUS:
SUMMARY:Engagement Van - Mereside community centre
UID:53457367CC94340EFE9FA0CE2FFCE3DB
END:VEVENT
END:VCALENDAR
