BEGIN:VCALENDAR
PRODID:-//github.com/rianjs/ical.net//NONSGML ical.net 4.0//EN
VERSION:2.0
BEGIN:VEVENT
CLASS:PUBLIC
CREATED:20260326T095246
DESCRIPTION:Bike Marking Event
DTEND:20260509T130000
DTSTAMP:20260326T095246Z
DTSTART:20260509T110000
LOCATION:Kinnerley Parish Hall\, \,SY10 8DB
SEQUENCE:0
STATUS:
SUMMARY:Bike Marking event
UID:A4767C6DDDFE1B16998637D3B61F5C6A
END:VEVENT
END:VCALENDAR
