BEGIN:VCALENDAR
PRODID:-//github.com/rianjs/ical.net//NONSGML ical.net 4.0//EN
VERSION:2.0
BEGIN:VEVENT
CLASS:PUBLIC
CREATED:20260418T102833
DESCRIPTION:
DTEND:20260421T114500
DTSTAMP:20260418T092833Z
DTSTART:20260421T110000
LOCATION:Costa Coffee - Kings Hill 1\, 1 Liberty Square Queen Street\,ME19
  4DA
SEQUENCE:0
STATUS:
SUMMARY:Police Surgery
END:VEVENT
END:VCALENDAR
