BEGIN:VCALENDAR
PRODID:-//github.com/rianjs/ical.net//NONSGML ical.net 4.0//EN
VERSION:2.0
BEGIN:VEVENT
CLASS:PUBLIC
CREATED:20260325T143729
DESCRIPTION:
DTEND:20260620T130000
DTSTAMP:20260325T143729Z
DTSTART:20260620T120000
LOCATION:Ombersley Endowed First School\, \,WR9 0DR
SEQUENCE:0
STATUS:
SUMMARY:COMMUNITY EVENT
UID:8481ED557895B2C6E519D6F38EBF0CBC
END:VEVENT
END:VCALENDAR
