BEGIN:VCALENDAR
PRODID:-//github.com/rianjs/ical.net//NONSGML ical.net 4.0//EN
VERSION:2.0
BEGIN:VEVENT
CLASS:PUBLIC
CREATED:20260325T111421
DESCRIPTION:
DTEND:20260527T153000
DTSTAMP:20260325T111421Z
DTSTART:20260527T150000
LOCATION:St Mary's Lane Car Park\, Saint Mary's Lane\,TF13 6AE
SEQUENCE:0
STATUS:
SUMMARY:Engagement Van - Much Wenlock
UID:DC63151D75CF058C0AE5F68173B3970F
END:VEVENT
END:VCALENDAR
