BEGIN:VCALENDAR
PRODID:-//github.com/rianjs/ical.net//NONSGML ical.net 4.0//EN
VERSION:2.0
BEGIN:VEVENT
CLASS:PUBLIC
CREATED:20260325T110653
DESCRIPTION:
DTEND:20260527T143000
DTSTAMP:20260325T110653Z
DTSTART:20260527T140000
LOCATION:Morville Village Hall\, \,WV16 5NB
SEQUENCE:0
STATUS:
SUMMARY:Engagement Van - Morville
UID:1B3F681DB89791526BA29A250D800908
END:VEVENT
END:VCALENDAR
