BEGIN:VCALENDAR
PRODID:-//github.com/rianjs/ical.net//NONSGML ical.net 4.0//EN
VERSION:2.0
BEGIN:VEVENT
CLASS:PUBLIC
CREATED:20260325T105844
DESCRIPTION:
DTEND:20260527T133000
DTSTAMP:20260325T105844Z
DTSTART:20260527T130000
LOCATION:Shipton Village Hall\, \,TF13 6JX
SEQUENCE:0
STATUS:
SUMMARY:Engagement Van - Shipton
UID:9F0E0CD536A6983C35D441BE77A0361A
END:VEVENT
END:VCALENDAR
