BEGIN:VCALENDAR
PRODID:-//github.com/rianjs/ical.net//NONSGML ical.net 4.0//EN
VERSION:2.0
BEGIN:VEVENT
CLASS:PUBLIC
CREATED:20260324T130110
DESCRIPTION:
DTEND:20260807T094500
DTSTAMP:20260324T130110Z
DTSTART:20260807T090000
LOCATION:The Brum\, 42 Dilmore Avenue\,WR3 7TH
SEQUENCE:0
STATUS:
SUMMARY:poliice event
UID:0DC390513BD8E4BA8D27D2B117657075
END:VEVENT
END:VCALENDAR
