BEGIN:VCALENDAR
PRODID:-//github.com/rianjs/ical.net//NONSGML ical.net 4.0//EN
VERSION:2.0
BEGIN:VEVENT
CLASS:PUBLIC
CREATED:20260324T125843
DESCRIPTION:
DTEND:20260707T114500
DTSTAMP:20260324T125843Z
DTSTART:20260707T110000
LOCATION:Hartlebury Parish Hall\, Waresley Court Road\,DY11 7TQ
SEQUENCE:0
STATUS:
SUMMARY:poliice event
UID:5EE88FE63D54B7036AEF12738479C6C8
END:VEVENT
END:VCALENDAR
