BEGIN:VCALENDAR
PRODID:-//github.com/rianjs/ical.net//NONSGML ical.net 4.0//EN
VERSION:2.0
BEGIN:VEVENT
CLASS:PUBLIC
CREATED:20260324T082203
DESCRIPTION:Library drop in
DTEND:20260818T110000
DTSTAMP:20260324T082203Z
DTSTART:20260818T100000
LOCATION:Stockingford Maintained Nursery School\, Saint Pauls Road\,CV10 8
 HW
SEQUENCE:0
STATUS:
SUMMARY:Library drop in
UID:6C72653776F2EE429DB3EF0DEA7A53D3
END:VEVENT
END:VCALENDAR
