BEGIN:VCALENDAR
PRODID:-//github.com/rianjs/ical.net//NONSGML ical.net 4.0//EN
VERSION:2.0
BEGIN:VEVENT
CLASS:PUBLIC
CREATED:20260324T082051
DESCRIPTION:Library drop in
DTEND:20260713T110000
DTSTAMP:20260324T082051Z
DTSTART:20260713T100000
LOCATION:Stockingford Maintained Nursery School\, Saint Pauls Road\,CV10 8
 HW
SEQUENCE:0
STATUS:
SUMMARY:Library drop in
UID:DDBE501A77761E28576FEF05B2D6BECE
END:VEVENT
END:VCALENDAR
