BEGIN:VCALENDAR
PRODID:-//github.com/rianjs/ical.net//NONSGML ical.net 4.0//EN
VERSION:2.0
BEGIN:VEVENT
CLASS:PUBLIC
CREATED:20260324T081738
DESCRIPTION:Library drop in
DTEND:20260626T110000
DTSTAMP:20260324T081738Z
DTSTART:20260626T100000
LOCATION:Stockingford Maintained Nursery School\, Saint Pauls Road\,CV10 8
 HW
SEQUENCE:0
STATUS:
SUMMARY:Library drop in
UID:D367C07171A6650AEBB57F7FF62F7BD5
END:VEVENT
END:VCALENDAR
