BEGIN:VCALENDAR
PRODID:-//github.com/rianjs/ical.net//NONSGML ical.net 4.0//EN
VERSION:2.0
BEGIN:VEVENT
CLASS:PUBLIC
CREATED:20260324T080418
DESCRIPTION:
DTEND:20260722T120000
DTSTAMP:20260324T080418Z
DTSTART:20260722T110000
LOCATION:Stockingford Community Centre\, Haunchwood Road\,CV10 8DY
SEQUENCE:0
STATUS:
SUMMARY:Community centre drop in
UID:25BF583960EE14C850A5D9629C457EE6
END:VEVENT
END:VCALENDAR
