BEGIN:VCALENDAR
PRODID:-//github.com/rianjs/ical.net//NONSGML ical.net 4.0//EN
VERSION:2.0
BEGIN:VEVENT
CLASS:PUBLIC
CREATED:20260324T080310
DESCRIPTION:Community centre drop in
DTEND:20260617T120000
DTSTAMP:20260324T080310Z
DTSTART:20260617T110000
LOCATION:Stockingford Community Centre\, Haunchwood Road\,CV10 8DY
SEQUENCE:0
STATUS:
SUMMARY:Community centre drop in
UID:2EC27DFFB85DE9EBE01A7A56CB5C4F92
END:VEVENT
END:VCALENDAR
