BEGIN:VCALENDAR
PRODID:-//github.com/rianjs/ical.net//NONSGML ical.net 4.0//EN
VERSION:2.0
BEGIN:VEVENT
CLASS:PUBLIC
CREATED:20260324T075604
DESCRIPTION:Stockingford academy school fete
DTEND:20260622T163000
DTSTAMP:20260324T075604Z
DTSTART:20260622T150000
LOCATION:Stockingford Academy\, Cross Street\,CV10 8JH
SEQUENCE:0
STATUS:
SUMMARY:Stockingford academy school fete
UID:73BB55D95A0989C8517B7E3C128F38E8
END:VEVENT
END:VCALENDAR
