BEGIN:VCALENDAR
PRODID:-//github.com/rianjs/ical.net//NONSGML ical.net 4.0//EN
VERSION:2.0
BEGIN:VEVENT
CLASS:PUBLIC
CREATED:20260322T133357
DESCRIPTION:
DTEND:20260523T130000
DTSTAMP:20260322T133357Z
DTSTART:20260523T120000
LOCATION:Oakfield Shopping Centre\, 17 Rad Valley Road\,SY3 8AT
SEQUENCE:0
STATUS:
SUMMARY:Surgery Oakfield Shopping Centre
UID:B1FEA7BCD52CB18BC72E5FD65D4CC670
END:VEVENT
END:VCALENDAR
