BEGIN:VCALENDAR
PRODID:-//github.com/rianjs/ical.net//NONSGML ical.net 4.0//EN
VERSION:2.0
BEGIN:VEVENT
CLASS:PUBLIC
CREATED:20260321T141346
DESCRIPTION:
DTEND:20260613T120000
DTSTAMP:20260321T141346Z
DTSTART:20260613T100000
LOCATION:Willington Peace Memorial Hall\, Church Road\,MK44 3PY
SEQUENCE:0
STATUS:
SUMMARY:Willington Village Market
UID:C93BC479C8439335674F0601278C400D
END:VEVENT
END:VCALENDAR
