BEGIN:VCALENDAR
PRODID:-//github.com/rianjs/ical.net//NONSGML ical.net 4.0//EN
VERSION:2.0
BEGIN:VEVENT
CLASS:PUBLIC
CREATED:20260320T155943
DESCRIPTION:
DTEND:20260623T190000
DTSTAMP:20260320T155943Z
DTSTART:20260623T180000
LOCATION:Thistle Hill Community Centre\, 4 Laurel Road\,ME12 3FG
SEQUENCE:0
STATUS:
SUMMARY:Thistle Hill Community Centre - Violence against women and girls\,
  surgery
UID:61CE72971C431815FBF7A0DA75245487
END:VEVENT
END:VCALENDAR
