BEGIN:VCALENDAR
PRODID:-//github.com/rianjs/ical.net//NONSGML ical.net 4.0//EN
VERSION:2.0
BEGIN:VEVENT
CLASS:PUBLIC
CREATED:20260320T155636
DESCRIPTION:
DTEND:20260618T170000
DTSTAMP:20260320T155636Z
DTSTART:20260618T160000
LOCATION:Brambledown Farm Shop\, Brambledown Lower Road\,ME12 3SU
SEQUENCE:0
STATUS:
SUMMARY:Brambledown Farm Shop - violence against women and girls - surgery
UID:3C4F5B5EE83DB703CCB5165EE6139C3B
END:VEVENT
END:VCALENDAR
