BEGIN:VCALENDAR
PRODID:-//github.com/rianjs/ical.net//NONSGML ical.net 4.0//EN
VERSION:2.0
BEGIN:VEVENT
CLASS:PUBLIC
CREATED:20260319T165321
DESCRIPTION:
DTEND:20260428T120000
DTSTAMP:20260319T165321Z
DTSTART:20260428T103000
LOCATION:Healey Court\, Coten End\,CV34 4XP
SEQUENCE:0
STATUS:
SUMMARY:Scams session for residents at Healey Court
UID:D9034A7AF744C945E73319210ADF4C65
END:VEVENT
END:VCALENDAR
