BEGIN:VCALENDAR
PRODID:-//github.com/rianjs/ical.net//NONSGML ical.net 4.0//EN
VERSION:2.0
BEGIN:VEVENT
CLASS:PUBLIC
CREATED:20260319T141201
DESCRIPTION:
DTEND:20260611T133000
DTSTAMP:20260319T141201Z
DTSTART:20260611T123000
LOCATION:St Mary's Church\, Towcester Road\,NN4 8EZ
SEQUENCE:0
STATUS:
SUMMARY:Far Cotton Food Bank/ Police Surgery
UID:6B7714E8E12126C1F2C41E334685900E
END:VEVENT
END:VCALENDAR
