BEGIN:VCALENDAR
PRODID:-//github.com/rianjs/ical.net//NONSGML ical.net 4.0//EN
VERSION:2.0
BEGIN:VEVENT
CLASS:PUBLIC
CREATED:20260317T155258
DESCRIPTION:
DTEND:20260603T150000
DTSTAMP:20260317T155258Z
DTSTART:20260603T140000
LOCATION:M&S Café\, Groundfloor\, 4 Saint George's Street\,CT1 2SR
SEQUENCE:0
STATUS:
SUMMARY:Coffee With a Cop
UID:F7AD0C5E912A1182D32364340A21A197
END:VEVENT
END:VCALENDAR
