BEGIN:VCALENDAR
PRODID:-//github.com/rianjs/ical.net//NONSGML ical.net 4.0//EN
VERSION:2.0
BEGIN:VEVENT
CLASS:PUBLIC
CREATED:20260317T132034
DESCRIPTION:Deliver a talk and Q&A at Race meadow school
DTEND:20260618T111500
DTSTAMP:20260317T132034Z
DTSTART:20260618T091500
LOCATION:Racemeadow Primary Academy\, Ratcliffe Road\,CV9 1LT
SEQUENCE:0
STATUS:
SUMMARY:Race Meadow School
UID:6300D285DB87BA9C52E14C788C15CEA2
END:VEVENT
END:VCALENDAR
