BEGIN:VCALENDAR
PRODID:-//github.com/rianjs/ical.net//NONSGML ical.net 4.0//EN
VERSION:2.0
BEGIN:VEVENT
CLASS:PUBLIC
CREATED:20260317T111830
DESCRIPTION:
DTEND:20260607T151500
DTSTAMP:20260317T111830Z
DTSTART:20260607T150000
LOCATION:Sydney Avenue\,SY1
SEQUENCE:0
STATUS:
SUMMARY:Engagement Van at Sydney Avenue
UID:0E5754E202FB4573D7FC63A6621E1FBF
END:VEVENT
END:VCALENDAR
