BEGIN:VCALENDAR
PRODID:-//github.com/rianjs/ical.net//NONSGML ical.net 4.0//EN
VERSION:2.0
BEGIN:VEVENT
CLASS:PUBLIC
CREATED:20260316T215754
DESCRIPTION:Far Cotton Community Council Fun day
DTEND:20260906T170000
DTSTAMP:20260316T215754Z
DTSTART:20260906T140000
LOCATION:Far Cotton Recreation Ground (Far Cotton REC)\, Delapre Crescent 
 Road\,NN4 8NG
SEQUENCE:0
STATUS:
SUMMARY:Far Cotton Community Fun day
UID:B1AEC7673A2EF2FBAF4B5A9127E7E580
END:VEVENT
END:VCALENDAR
