BEGIN:VCALENDAR
PRODID:-//github.com/rianjs/ical.net//NONSGML ical.net 4.0//EN
VERSION:2.0
BEGIN:VEVENT
CLASS:PUBLIC
CREATED:20260316T091703
DESCRIPTION:
DTEND:20260721T210000
DTSTAMP:20260316T091703Z
DTSTART:20260721T190000
LOCATION:Minster-on-Sea Parish Council\, Love Lane\,ME12 2LP
SEQUENCE:0
STATUS:
SUMMARY:Minster-on-Sea Police & Violence Against Women and Girls Surgery
UID:AA20076EFAEF5B26F84938B76A2B5FA8
END:VEVENT
END:VCALENDAR
