BEGIN:VCALENDAR
PRODID:-//github.com/rianjs/ical.net//NONSGML ical.net 4.0//EN
VERSION:2.0
BEGIN:VEVENT
CLASS:PUBLIC
CREATED:20260312T150153
DESCRIPTION:
DTEND:20260614T120000
DTSTAMP:20260312T150153Z
DTSTART:20260614T090000
LOCATION:The Mews Brewhouse\, 8 School Mews School Lane\,ME9 8UW
SEQUENCE:0
STATUS:
SUMMARY:Violence against women and girls police drop in surgery
END:VEVENT
END:VCALENDAR
