BEGIN:VCALENDAR
PRODID:-//github.com/rianjs/ical.net//NONSGML ical.net 4.0//EN
VERSION:2.0
BEGIN:VEVENT
CLASS:PUBLIC
CREATED:20260311T073441
DESCRIPTION:"Banbury Run"\, vintage motorcycle ride out from British Motor
  Museum - details saved in Wellesbourne SNT inbox under "British Motor Mu
 seum"
DTEND:20260607T130000
DTSTAMP:20260311T073441Z
DTSTART:20260607T100000
LOCATION:\,
SEQUENCE:0
STATUS:
SUMMARY:Banbury Run - Vintage Motorcycles - Motor Museum
UID:ADC2CB6274C0470433EC9DBCC70C4E27
END:VEVENT
END:VCALENDAR
