BEGIN:VCALENDAR
PRODID:-//github.com/rianjs/ical.net//NONSGML ical.net 4.0//EN
VERSION:2.0
BEGIN:VEVENT
CLASS:PUBLIC
CREATED:20260310T134807
DESCRIPTION:
DTEND:20260429T133000
DTSTAMP:20260310T134807Z
DTSTART:20260429T124500
LOCATION:The Square\,SY1 1JZ
SEQUENCE:0
STATUS:
SUMMARY:Engagement Van Event @ The Square
UID:06A55CE4B1B88DA21EEF4261C6CB2C01
END:VEVENT
END:VCALENDAR
