BEGIN:VCALENDAR
PRODID:-//github.com/rianjs/ical.net//NONSGML ical.net 4.0//EN
VERSION:2.0
BEGIN:VEVENT
CLASS:PUBLIC
CREATED:20260310T134621
DESCRIPTION:
DTEND:20260424T151500
DTSTAMP:20260310T134621Z
DTSTART:20260424T143000
LOCATION:The Square\,SY1 1JZ
SEQUENCE:0
STATUS:
SUMMARY:Engagement Van Event @ The Square
UID:74F9C37F50D412C86424B334374C1481
END:VEVENT
END:VCALENDAR
