BEGIN:VCALENDAR
PRODID:-//github.com/rianjs/ical.net//NONSGML ical.net 4.0//EN
VERSION:2.0
BEGIN:VEVENT
CLASS:PUBLIC
CREATED:20260407T211712
DESCRIPTION:Engagement at st james church\, thrapston
DTEND:20260609T110000
DTSTAMP:20260407T201712Z
DTSTART:20260609T100000
LOCATION:NN14 4NP\, Church Walk\,NN14 4NP
SEQUENCE:0
STATUS:
SUMMARY:Thrapston Baptish Church - Speak with an Officer
END:VEVENT
END:VCALENDAR
