BEGIN:VCALENDAR
PRODID:-//github.com/rianjs/ical.net//NONSGML ical.net 4.0//EN
VERSION:2.0
BEGIN:VEVENT
CLASS:PUBLIC
CREATED:20260407T211130
DESCRIPTION:
DTEND:20260512T110000
DTSTAMP:20260407T201130Z
DTSTART:20260512T100000
LOCATION:NN14 4FE\, Saint Pauls Gardens\,NN14 4FE
SEQUENCE:0
SUMMARY:Thrapston Baptish Church - Speak with an Officer
UID:C1BDDB3EC2AC251B85BBBCCB6D39E979
END:VEVENT
END:VCALENDAR
